BEGIN:VCALENDAR
VERSION:2.0
PRODID:-//IEL - ECPv6.15.20//NONSGML v1.0//EN
CALSCALE:GREGORIAN
METHOD:PUBLISH
X-ORIGINAL-URL:https://www.iel.ca
X-WR-CALDESC:Évènements pour IEL
REFRESH-INTERVAL;VALUE=DURATION:PT1H
X-Robots-Tag:noindex
X-PUBLISHED-TTL:PT1H
BEGIN:VTIMEZONE
TZID:America/Toronto
BEGIN:DAYLIGHT
TZOFFSETFROM:-0500
TZOFFSETTO:-0400
TZNAME:EDT
DTSTART:20160313T070000
END:DAYLIGHT
BEGIN:STANDARD
TZOFFSETFROM:-0400
TZOFFSETTO:-0500
TZNAME:EST
DTSTART:20161106T060000
END:STANDARD
BEGIN:DAYLIGHT
TZOFFSETFROM:-0500
TZOFFSETTO:-0400
TZNAME:EDT
DTSTART:20170312T070000
END:DAYLIGHT
BEGIN:STANDARD
TZOFFSETFROM:-0400
TZOFFSETTO:-0500
TZNAME:EST
DTSTART:20171105T060000
END:STANDARD
BEGIN:DAYLIGHT
TZOFFSETFROM:-0500
TZOFFSETTO:-0400
TZNAME:EDT
DTSTART:20180311T070000
END:DAYLIGHT
BEGIN:STANDARD
TZOFFSETFROM:-0400
TZOFFSETTO:-0500
TZNAME:EST
DTSTART:20181104T060000
END:STANDARD
BEGIN:DAYLIGHT
TZOFFSETFROM:-0500
TZOFFSETTO:-0400
TZNAME:EDT
DTSTART:20190310T070000
END:DAYLIGHT
BEGIN:STANDARD
TZOFFSETFROM:-0400
TZOFFSETTO:-0500
TZNAME:EST
DTSTART:20191103T060000
END:STANDARD
BEGIN:DAYLIGHT
TZOFFSETFROM:-0500
TZOFFSETTO:-0400
TZNAME:EDT
DTSTART:20200308T070000
END:DAYLIGHT
BEGIN:STANDARD
TZOFFSETFROM:-0400
TZOFFSETTO:-0500
TZNAME:EST
DTSTART:20201101T060000
END:STANDARD
BEGIN:DAYLIGHT
TZOFFSETFROM:-0500
TZOFFSETTO:-0400
TZNAME:EDT
DTSTART:20210314T070000
END:DAYLIGHT
BEGIN:STANDARD
TZOFFSETFROM:-0400
TZOFFSETTO:-0500
TZNAME:EST
DTSTART:20211107T060000
END:STANDARD
END:VTIMEZONE
BEGIN:VEVENT
DTSTART;TZID=America/Toronto:20200208T100000
DTEND;TZID=America/Toronto:20200208T150000
DTSTAMP:20260422T042222
CREATED:20200124T213033Z
LAST-MODIFIED:20200124T213033Z
UID:4989-1581156000-1581174000@www.iel.ca
SUMMARY:Portes ouvertes - FERME HOLDREAM
DESCRIPTION:IEL technologies agricoles est fier de participer à la porte ouverte de la ferme Holdream. C’est un rendez-vous!
URL:https://www.iel.ca/evenement/portes-ouvertes-ferme-holdream/
LOCATION:Ferme Holdream\, 138\, Rang 9\, St-Honoré-de-Shenley\, Québec\, G0M 1V0\, Canada
ATTACH;FMTTYPE=image/png:https://www.iel.ca/wp-content/uploads/2020/01/Holdream1-e1579901407908.png
END:VEVENT
BEGIN:VEVENT
DTSTART;TZID=America/Toronto:20200206T083000
DTEND;TZID=America/Toronto:20200206T170000
DTSTAMP:20260422T042222
CREATED:20200121T135606Z
LAST-MODIFIED:20200121T135811Z
UID:4979-1580977800-1581008400@www.iel.ca
SUMMARY:COLLOQUE SANTÉ ET SÉCURITÉ DU TRAVAIL UPA/CNESST
DESCRIPTION:Joignez-vous à nous pour cet événement à ne pas manquer! \nPlus de détails au : http://www.santesecurite.upa.qc.ca/sante-et-securite/colloque-sst/
URL:https://www.iel.ca/evenement/colloque-sante-et-securite-du-travail-upa-cnesst/
LOCATION:Hôtel Delta\, Trois-Rivières\, 1620\, rue Notre-Dame Centre\, Trois-Rivières\, Québec\, G9A 6E5\, Canada
ATTACH;FMTTYPE=image/png:https://www.iel.ca/wp-content/uploads/2020/01/Colloque-1.png
END:VEVENT
BEGIN:VEVENT
DTSTART;VALUE=DATE:20200130
DTEND;VALUE=DATE:20200202
DTSTAMP:20260422T042222
CREATED:20200108T192425Z
LAST-MODIFIED:20200108T192548Z
UID:4953-1580342400-1580601599@www.iel.ca
SUMMARY:Venez-nous visiter au SIMAQ
DESCRIPTION:IEL récidive et sera présent au SIMAQ 2020 avec MAXIMUS et GLOBAL .  Au plaisir de vous y rencontrer en grand nombre!
URL:https://www.iel.ca/evenement/venez-nous-visiter-au-simaq/
LOCATION:Centre de foires d’ExpoCité à Québec\, 250 boul. Wilfrid-Hamel\, Québec\, Québec\, G1L 5A7\, Canada
ATTACH;FMTTYPE=image/jpeg:https://www.iel.ca/wp-content/uploads/2020/01/LogoSIMAQ-26-ANS-003.jpg
END:VEVENT
BEGIN:VEVENT
DTSTART;VALUE=DATE:20200114
DTEND;VALUE=DATE:20200117
DTSTAMP:20260422T042222
CREATED:20200108T183054Z
LAST-MODIFIED:20200108T183054Z
UID:4949-1578960000-1579219199@www.iel.ca
SUMMARY:JEFO-150 votre rendez-vous au Salon de l'Agriculture 2020
DESCRIPTION:Encore une fois cette année\, IEL aura le plaisir de vous recevoir au kiosque JEFO-150.  MAXIMUS et GLOBAL \, nos fidèles partenaires\, seront également présents. Au plaisir de vous y rencontrer en grand nombre!
URL:https://www.iel.ca/evenement/jefo-150-votre-rendez-vous-au-salon-de-lagriculture-2020/
LOCATION:Espace St-Hyacinthe\, 4770\, rue Martineau\, Saint-Hyacinthe\, Québec\, J2R 1V1\, Canada
ATTACH;FMTTYPE=image/jpeg:https://www.iel.ca/wp-content/uploads/2020/01/72342228_2813438272013132_5305368797744463872_o-e1578506981369.jpg
END:VEVENT
BEGIN:VEVENT
DTSTART;TZID=America/Toronto:20191210T150000
DTEND;TZID=America/Toronto:20191211T180000
DTSTAMP:20260422T042222
CREATED:20191107T204229Z
LAST-MODIFIED:20191107T204243Z
UID:4907-1575990000-1576087200@www.iel.ca
SUMMARY:IEL sera exposant au Porc-show
DESCRIPTION:Nous serons aux kiosques 68 et 69. C’est un rendez-vous!
URL:https://www.iel.ca/evenement/iel-sera-exposant-au-porc-show/
LOCATION:Centre des congrès de Québec
ATTACH;FMTTYPE=image/png:https://www.iel.ca/wp-content/uploads/2018/11/porc-show.png
END:VEVENT
BEGIN:VEVENT
DTSTART;TZID=America/Toronto:20190827T083000
DTEND;TZID=America/Toronto:20190829T163000
DTSTAMP:20260422T042222
CREATED:20190807T150413Z
LAST-MODIFIED:20190807T150704Z
UID:4708-1566894600-1567096200@www.iel.ca
SUMMARY:Venez nous rencontrer à Expo-champs!
DESCRIPTION:Une foule de partenaires seront présents avec nous. \nL’Expo-Champs c’est l’exposition incontournable de l’été! \n 
URL:https://www.iel.ca/evenement/venez-nous-rencontrer-a-expo-champs/
LOCATION:Expo-Champs\, 124\, Rang Charlotte\, St-Liboire\, Québec\, J0H 1R0\, Canada
ATTACH;FMTTYPE=image/png:https://www.iel.ca/wp-content/uploads/2019/08/facebook-expo.png
END:VEVENT
BEGIN:VEVENT
DTSTART;TZID=America/Toronto:20190719T163000
DTEND;TZID=America/Toronto:20190805T163000
DTSTAMP:20260422T042222
CREATED:20190709T153940Z
LAST-MODIFIED:20190709T153940Z
UID:4693-1563553800-1565022600@www.iel.ca
SUMMARY:Vacances estivales
DESCRIPTION:Nous vous reviendrons en force le 5 août au matin. Bonnes vacances à tous!
URL:https://www.iel.ca/evenement/vacances-estivales/
LOCATION:550\, route Bégin Nord\, 550\, ROUTE BÉGIN NORD\, Sainte-Claire\, Québec\, GOR 2VO\, Canada
END:VEVENT
BEGIN:VEVENT
DTSTART;TZID=America/Toronto:20190712T090000
DTEND;TZID=America/Toronto:20190712T150000
DTSTAMP:20260422T042222
CREATED:20190618T181845Z
LAST-MODIFIED:20190618T181845Z
UID:4684-1562922000-1562943600@www.iel.ca
SUMMARY:Vente sous la tente 2019
DESCRIPTION:La vente à ne pas manquer!
URL:https://www.iel.ca/evenement/vente-sous-la-tente-2019/
LOCATION:550\, route Bégin Nord\, 550\, ROUTE BÉGIN NORD\, Sainte-Claire\, Québec\, GOR 2VO\, Canada
END:VEVENT
BEGIN:VEVENT
DTSTART;TZID=America/Toronto:20190618T090000
DTEND;TZID=America/Toronto:20190619T180000
DTSTAMP:20260422T042222
CREATED:20190416T122520Z
LAST-MODIFIED:20190416T122520Z
UID:4617-1560848400-1560967200@www.iel.ca
SUMMARY:Embauche : Après le Maroc\, la Tunésie!
DESCRIPTION:Par la suite\, nous volons à Tunis pour rencontrer d’autres candidats. Au plaisir de vous y rencontrer!
URL:https://www.iel.ca/evenement/embauche_tunesie/
LOCATION:Québec
ATTACH;FMTTYPE=image/png:https://www.iel.ca/wp-content/uploads/2019/04/IEL-RH.png
END:VEVENT
BEGIN:VEVENT
DTSTART;TZID=America/Toronto:20190615T090000
DTEND;TZID=America/Toronto:20190616T180000
DTSTAMP:20260422T042222
CREATED:20190416T120557Z
LAST-MODIFIED:20190530T140900Z
UID:4613-1560589200-1560708000@www.iel.ca
SUMMARY:IEL présent aux journées d'embauche à Casablanca
DESCRIPTION:IEL sera présent lors des journées Québec-Casablanca\, les 15 et 16 juin prochains. Nous serons prêts à rencontrer les candidates et candidats pour leur entretien d’embauche. Bonne chance à tous!
URL:https://www.iel.ca/evenement/iel-present-aux-journees-dembauche-a-casablanca/
LOCATION:Québec
ATTACH;FMTTYPE=image/jpeg:https://www.iel.ca/wp-content/uploads/2019/04/Casablanca.jpg
END:VEVENT
BEGIN:VEVENT
DTSTART;VALUE=DATE:20190525
DTEND;VALUE=DATE:20190527
DTSTAMP:20260422T042222
CREATED:20190426T153916Z
LAST-MODIFIED:20190426T153916Z
UID:4628-1558742400-1558915199@www.iel.ca
SUMMARY:IEL sera à l'expo de St-Odilon
DESCRIPTION:Au plaisir de vous y rencontrer!
URL:https://www.iel.ca/evenement/iel-sera-a-lexpo-de-st-odilon/
LOCATION:Expo St-Odilon\, 108 rue du centenaire\, St-Odilon-de-Cranbourne\, Québec\, G0S 3A0
ATTACH;FMTTYPE=image/jpeg:https://www.iel.ca/wp-content/uploads/2019/04/St-Odilon.jpg
END:VEVENT
BEGIN:VEVENT
DTSTART;TZID=America/Toronto:20190320T080000
DTEND;TZID=America/Toronto:20190320T170000
DTSTAMP:20260422T042222
CREATED:20190208T171053Z
LAST-MODIFIED:20190208T171053Z
UID:4334-1553068800-1553101200@www.iel.ca
SUMMARY:IEL participe au rendez-vous laitier
DESCRIPTION:Nous serons au kiosque 22 avec en compagnie de Maximus. Venez-nous rencontrer!
URL:https://www.iel.ca/evenement/iel-participe-au-rendez-vous-laitier/
LOCATION:Centrexpo Cogeco\, 550\, Saint-Amant\, Drummondville\, Québec\, J2C 6Z3\, Canada
ATTACH;FMTTYPE=image/jpeg:https://www.iel.ca/wp-content/uploads/2019/02/Rv-laitier.jpg
END:VEVENT
BEGIN:VEVENT
DTSTART;TZID=America/Toronto:20181211T150000
DTEND;TZID=America/Toronto:20181212T180000
DTSTAMP:20260422T042222
CREATED:20181121T140121Z
LAST-MODIFIED:20190205T154129Z
UID:4159-1544540400-1544637600@www.iel.ca
SUMMARY:Ne manquez pas le Porc-Show!
DESCRIPTION:Les 11 et 12 décembre \, IEL technologies agricoles sera présent au Porc-Show. Venez-nous rencontrer aux kiosques 18 & 19. \nVisitez le site du Porc-Show pour la programmation complète.
URL:https://www.iel.ca/evenement/ne-manquez-pas-le-porc-show/
LOCATION:Centre des congrès de Québec
ATTACH;FMTTYPE=image/png:https://www.iel.ca/wp-content/uploads/2018/11/porc-show.png
END:VEVENT
BEGIN:VEVENT
DTSTART;VALUE=DATE:20180828
DTEND;VALUE=DATE:20180831
DTSTAMP:20260422T042222
CREATED:20180529T170901Z
LAST-MODIFIED:20180529T170901Z
UID:3500-1535414400-1535673599@www.iel.ca
SUMMARY:Expo-Champs 2018
DESCRIPTION:Du 28 au 30 août prochain se tiendra la 20e édition\nd’Expo-Champs à St-Liboire\nVenez nous rencontrer au kiosque D-3. Nous vous ferons découvrir plusieurs de nos équipements pour répondre aux exigences du bien-être animal ! Venez nous présenter vos projets et nous saurons satisfaire vos besoins.\n  \n  \n                     \n  \n 
URL:https://www.iel.ca/evenement/expo-champs-2018/
LOCATION:124\, rang Charlotte\, Saint-Liboire\, Québec\, J0H 1R0
ATTACH;FMTTYPE=image/jpeg:https://www.iel.ca/wp-content/uploads/2018/05/expochamps-1.jpg
END:VEVENT
BEGIN:VEVENT
DTSTART;VALUE=DATE:20180713
DTEND;VALUE=DATE:20180714
DTSTAMP:20260422T042222
CREATED:20180706T132310Z
LAST-MODIFIED:20180706T132310Z
UID:3777-1531440000-1531526399@www.iel.ca
SUMMARY:Vente sous la tente IEL - Le 13 juillet 2018
DESCRIPTION:Plusieurs produits offerts dont :\n  \nPaneltim ¾’’ et 2’’ 50 % de rabais\nFixture Lumistar 49’’ (# 42300) 40 % de rabais\nSupports de lattes (différentes grandeurs) 40 % de rabais\n  \n 
URL:https://www.iel.ca/evenement/vente-sous-la-tente-iel-le-13-juillet-2018/
LOCATION:550\, route Bégin Nord\, 550\, ROUTE BÉGIN NORD\, Sainte-Claire\, Québec\, GOR 2VO\, Canada
ATTACH;FMTTYPE=image/jpeg:https://www.iel.ca/wp-content/uploads/2018/07/2018-07-06-08_46_23-Invitation-média-poste_vente-sous-la-tente-2018-Word.jpg
END:VEVENT
BEGIN:VEVENT
DTSTART;VALUE=DATE:20180704
DTEND;VALUE=DATE:20180709
DTSTAMP:20260422T042222
CREATED:20180529T171908Z
LAST-MODIFIED:20180529T171955Z
UID:3545-1530662400-1531094399@www.iel.ca
SUMMARY:Expo-BBQ Bellechasse
DESCRIPTION:Du 4 au 8 juillet prochain se tiendra la 35e édition\nde l’Expo-BBQ de St-Anselme\nVenez nous rencontrer et nous vous ferons découvrir plusieurs de nos équipements répondant aux exigences du bien-être animal ! NOTRE PASSION\, VOTRE SUCCÈS !\n  \n  \n                     \n  \n 
URL:https://www.iel.ca/evenement/expo-bbq-bellechasse/
LOCATION:37\, des Marianistes\, 37\, des Marianistes\, Saint-Anselme\, Québec\, GOR 2NO\, Canada
ATTACH;FMTTYPE=image/jpeg:https://www.iel.ca/wp-content/uploads/2018/05/expo_bbq.jpg
END:VEVENT
BEGIN:VEVENT
DTSTART;TZID=America/Toronto:20180628T160000
DTEND;TZID=America/Toronto:20180628T190000
DTSTAMP:20260422T042222
CREATED:20180621T183540Z
LAST-MODIFIED:20180621T200819Z
UID:3690-1530201600-1530212400@www.iel.ca
SUMMARY:Porte ouverte pour de nouveaux employés - 28 juin 2018
DESCRIPTION:
URL:https://www.iel.ca/evenement/porte-ouverte-pour-nouveaux-employes-28-juin-2018/
LOCATION:550\, ROUTE BÉGIN NORD\, Sainte-Claire\, Québec\, GOR 2VO\, Canada
END:VEVENT
BEGIN:VEVENT
DTSTART;VALUE=DATE:20180420
DTEND;VALUE=DATE:20180421
DTSTAMP:20260422T042222
CREATED:20180321T134843Z
LAST-MODIFIED:20180321T141058Z
UID:3131-1524182400-1524268799@www.iel.ca
SUMMARY:Journée Groupe Évolu-Porc
DESCRIPTION:Le 20 avril prochain se tiendra la journée Groupe Évolu-porc au Centre Caztel de Sainte-Marie. Cette journée de conférences\, sous le thème  »Ensemble\, tirons profit des changements ! » sera l’occasion\, pour les producteurs\, les étudiants et les intervenants\, d’en apprendre davantage sur différents sujets touchant le domaine porcin. \nEn tant que partenaires Porc-argent\, l’équipe de IEL et Maximus vous attendent en grand nombre !\nPour voir l’horaire des conférences\, veuillez cliquer ici.
URL:https://www.iel.ca/evenement/journee-groupe-evolu-porc/
LOCATION:Centre Caztel Sainte-Marie\, 905\, route St-Martin\, Sainte-Marie\, Québec\, G6E 1E6\, Canada
ATTACH;FMTTYPE=image/png:https://www.iel.ca/wp-content/uploads/2018/03/Affiche_journee_evolu-porc-1-e1521641445380.png
END:VEVENT
BEGIN:VEVENT
DTSTART;VALUE=DATE:20180328
DTEND;VALUE=DATE:20180329
DTSTAMP:20260422T042222
CREATED:20180228T132016Z
LAST-MODIFIED:20180326T142847Z
UID:2805-1522195200-1522281599@www.iel.ca
SUMMARY:Le Rendez-vous laitier AQINAC 2018
DESCRIPTION:  \n  \n  \nDepuis 12 ans\, le comité organisateur vous prépare un programme de conférences orienté autour des différents enjeux du secteur. En rassemblant dans un même lieu des producteurs\, des conseillers agricoles et financiers\, des fournisseurs d’intrants\, des médecins vétérinaires\, des gestionnaires d’entreprises de transformation alimentaire\, ainsi que des jeunes de la relève\, le Rendez-vous laitier AQINAC fait le pari d’initier une réflexion basée sur les besoins et les contraintes du début à la fin de la filière. \nIEL et Maximus sont fiers d’être partenaire majeur pour cet événement !\nCliquez ici pour en savoir plus… \n 
URL:https://www.iel.ca/evenement/2805/
LOCATION:Best Western Plus Hôtel Universel\, Drummondville\, 915 Rue Hains\, Drummondville\, Quebec\, J2C 3A1\, Canada
ATTACH;FMTTYPE=image/jpeg:https://www.iel.ca/wp-content/uploads/2018/02/Promotion-Facebook_Rendez-vous-laitier-2018_IEL_Maximus.jpg
END:VEVENT
BEGIN:VEVENT
DTSTART;TZID=America/Toronto:20180316T100000
DTEND;TZID=America/Toronto:20180317T150000
DTSTAMP:20260422T042222
CREATED:20180305T204439Z
LAST-MODIFIED:20180315T202346Z
UID:2942-1521194400-1521298800@www.iel.ca
SUMMARY:Salon de l'emploi Lévis-Bellechasse
DESCRIPTION:  \n \nSans emploi ? Besoin d’un nouveau défi ? \n  \nProfites du salon de l’emploi de Lévis et de Bellechasse pour venir nous rencontrer. \nTu pourras discuter directement avec nous et soumettre ta candidature sur le poste qui t’intéresse. \nVoici la liste des postes offerts : \n\nDessinateur industriel;\nTechnicien de production;\nMagasinier\nAssembleur d’équipements agricoles;\nMachiniste;\nOpérateur presse-plieur;\nOpérateur laser;\nOpérateur chariot élévateur;\nOpérateur soudure par points;\nManœuvre;\nEmballeur.\n\nOn t’attend !
URL:https://www.iel.ca/evenement/salon-de-lemploi-levis-bellechasse/
LOCATION:Centre de congrès et d’exposition de Lévis\, 5750 Rue J.-B.- Michaud\, Lévis\, Québec\, G6V 0B1\, Canada
END:VEVENT
BEGIN:VEVENT
DTSTART;TZID=America/Toronto:20180302T100000
DTEND;TZID=America/Toronto:20180302T200000
DTSTAMP:20260422T042222
CREATED:20180301T144016Z
LAST-MODIFIED:20180301T144536Z
UID:2846-1519984800-1520020800@www.iel.ca
SUMMARY:La Foire de l'emploi Beauce-Nord 2018
DESCRIPTION:Le 2 mars prochain\, IEL sera présente à la Foire de l’emploi Beauce-Nord 2018 afin d’offrir plusieurs opportunités d’emplois de qualités. L’événement permet de créer un moment privilégié entre le chercheur d’emploi et l’équipe de IEL. \nCette année\, le comité de la foire de l’emploi Beauce-Nord a voulu mettre l’emphase sur l’importance du chercheur d’emploi. Il doit se sentir l’acteur principal de l’économie. En effet\, sans employés\, une entreprise ne peut se dépasser et le contraire est aussi vrai.
URL:https://www.iel.ca/evenement/foire-de-lemploi-beauce-nord-2018/
LOCATION:Centre Caztel Sainte-Marie\, 905\, route St-Martin\, Sainte-Marie\, Québec\, G6E 1E6\, Canada
ATTACH;FMTTYPE=image/png:https://www.iel.ca/wp-content/uploads/2018/03/2018-03-01-09_27_51-Foire-de-l’emploi-Beauce-Nord-Centre-Caztel-Sainte-Marie.png
ORGANIZER;CN="Sophie Breton":MAILTO:s.breton@cjebn.com
END:VEVENT
BEGIN:VEVENT
DTSTART;VALUE=DATE:20180202
DTEND;VALUE=DATE:20180203
DTSTAMP:20260422T042222
CREATED:20180130T205301Z
LAST-MODIFIED:20180130T213433Z
UID:1186-1517529600-1517615999@www.iel.ca
SUMMARY:Expo-Conférence de St-Anselme
DESCRIPTION:L’Expo-conférenceest un événement annuel qui se tient le premier vendredi de février. L’objectif est d’échanger sur des sujets d’actualités en agriculture\, connaître les nouveautés technologiques\, visiter nos installations\, rencontrer nos élèves\, explorer les particularités de nos méthodes d‘apprentissage et revoir vos anciens collègues de classe enseignants. \nCombien?\n13 $ taxes incluses en prévente\n15 $ taxes incluses à la porte\n7 $ pour les enfants de 12 ans et moins\nGratuit si vous ne participez pas au brunch
URL:https://www.iel.ca/evenement/expo-conference-de-st-anselme/
LOCATION:CENTRE DE FORMATION AGRICOLE\, 819\, route Bégin\, Saint-Anselme\, Québec\, Canada
ATTACH;FMTTYPE=image/jpeg:https://www.iel.ca/wp-content/uploads/2018/01/evenement-expo-conference.jpg
END:VEVENT
BEGIN:VEVENT
DTSTART;VALUE=DATE:20180125
DTEND;VALUE=DATE:20180128
DTSTAMP:20260422T042222
CREATED:20180111T152609Z
LAST-MODIFIED:20180130T214340Z
UID:914-1516838400-1517097599@www.iel.ca
SUMMARY:SIMAQ
DESCRIPTION:Venez nous visiter\, au plaisir de faire votre connaissance…\nPrix d’entrée :\nAdmission générale 15.00$ ••• Enfant moins de 12 ans Gratuit\nPrix de groupe 13.00$ (plus de 10 personnes) \n  \nCliquez ici pour plus de détails \n 
URL:https://www.iel.ca/evenement/simaq/
LOCATION:Centre de foires d’ExpoCité à Québec\, 250 boul. Wilfrid-Hamel\, Québec\, Québec\, G1L 5A7\, Canada
ATTACH;FMTTYPE=image/jpeg:https://www.iel.ca/wp-content/uploads/2018/01/evenement-salonduquebec.jpg
END:VEVENT
BEGIN:VEVENT
DTSTART;VALUE=DATE:20180116
DTEND;VALUE=DATE:20180119
DTSTAMP:20260422T042222
CREATED:20180111T143733Z
LAST-MODIFIED:20180111T203235Z
UID:908-1516060800-1516319999@www.iel.ca
SUMMARY:Salon de l’agriculture de St-Hyacinthe
DESCRIPTION:Venez rencontrer notre équipe d’experts au kiosque 150 au Salon de l’agriculture de St-Hyacinthe du 16 au 18 janvier 2018 ! \n  \nCliquez ici pour plus de détails \n 
URL:https://www.iel.ca/evenement/salon-de-lagriculture-de-st-hyacinthe/
LOCATION:Espace St-Hyacinthe\, 4770\, rue Martineau\, Saint-Hyacinthe\, Québec\, J2R 1V1\, Canada
ATTACH;FMTTYPE=image/jpeg:https://www.iel.ca/wp-content/uploads/2018/01/evenement-salon-de-agriculture-1.jpg
END:VEVENT
BEGIN:VEVENT
DTSTART;TZID=America/Toronto:20171127T080000
DTEND;TZID=America/Toronto:20171128T170000
DTSTAMP:20260422T042222
CREATED:20171102T182908Z
LAST-MODIFIED:20171103T185218Z
UID:260-1511769600-1511888400@www.iel.ca
SUMMARY:Porc Show 2017
DESCRIPTION:Assistez à des conférences bilingues qui portent sur des enjeux réels et actuels que vit l’industrie porcine\, tant au Canada qu’ailleurs dans le monde.
URL:https://www.iel.ca/evenement/porc-show-2017/
LOCATION:Centre des congrès de Québec
ATTACH;FMTTYPE=image/png:https://www.iel.ca/wp-content/uploads/2017/11/image014.png
END:VEVENT
END:VCALENDAR